BEGIN:VCALENDAR
PRODID:-//IONAS//RIS//DE
VERSION:2.0
CALSCALE:GREGORIAN
BEGIN:VEVENT
DTSTAMP:20260421T011242Z
DTSTART:20251216T150000
DTEND:20251216T154000
SUMMARY:Ausschuss für Finanzen\, Wirtschaft\, Tourismus\, Mobilität und B
 auen (32. Sitzung)
LOCATION:Kreishaus in Korbach\, Sitzungssaal I (1. OG)\, Südring 2\, 3449
 7 Korbach
DESCRIPTION:Tagesordnungspunkte\nI. öffentliche Sitzung\n1. Haushaltssatz
 ung 2026\;\nBeschlussfassung gem. § 50 Abs. 5 S. 3 HFAG (Ergebnis der An
 hörung der zur Umlage verpflichteten Kommunen)\n2. Haushaltsplanung 2026
  - Fortschreibung des Haushaltssicherungskonzeptes nach § 92a HGO für\nd
 en Zeitraum 2025-2029 (Beratung und Beschlussfassung)\n3. Haushaltssatzu
 ng und Haushaltsplan für das Haushaltsjahr 2026\, Investitionsprogramm\n
 und Ergebnis- und Finanzplanung für den Zeitraum 2025-2029 (Beratung und
  Beschlussfassung)\n4. Beschluss über die Krankenhausfusion\n5. Neuorgan
 isation der Wahrnehmung touristischer Aufgaben und Auflösung der Tourist
 ik Service Waldeck Ederbergland GmbH\n6. Betrauungsakt Wirtschaftsförder
 ung und Regionalmanagement Waldeck Frankenberg GmbH\nhier: Verlängerung 
 des Betrauungsaktes der Wirtschaftsförderung und Regionalmanagement Wald
 eck Frankenberg GmbH\n7. Jahresabschluss 2024 der Waldeckischen Domanial
 verwaltung\; Feststellung und Ergebnisverwendung\n8. Genehmigung von übe
 rplanmäßigen Aufwendungen im Haushaltsjahr 2025\nTeilergebnishaushalt 01
 1 Verwaltungssteuerung und - service\nTeilergebnishaushalt 063 Sonstige 
 Leistungen der Kinder-\, Jugend- und Familienhilfe\n9. Neufassung der Be
 nutzungs- und Entgeltordnung des Medienzentrums Waldeck-Frankenberg\n10.
  Bericht über den Haushaltsvollzug für das III. Quartal 2025 auf der Gru
 ndlage der Finanzbuchhaltung nach § 28 GemHVO\n11. 9. Änderung der Satzu
 ng des Landkreises Waldeck-Frankenberg über die Erhebung von Gebühren fü
 r Amtshandlungen im Zusammenhang mit der Gewinnung von Frischfleisch (Fr
 ischfleisch-Kostensatzung) vom 15.12.2014 (s. Anlagen)\n12. Beteiligungs
 bericht 2024 des Landkreises Waldeck-Frankenberg\n13. Verschiedenes
UID:Kr_wVhudKq5lgyfJ
END:VEVENT
END:VCALENDAR
