BEGIN:VCALENDAR
PRODID:-//IONAS//RIS//DE
VERSION:2.0
CALSCALE:GREGORIAN
BEGIN:VEVENT
DTSTAMP:20260421T005409Z
DTSTART:20230322T150000
DTEND:20230322T154000
SUMMARY:Jugendhilfeausschuss (7. Sitzung)
LOCATION:Kreishaus in Korbach\, Sitzungssaal I (1. OG)\, Südring 2\, 3449
 7 Korbach
DESCRIPTION:Tagesordnungspunkte\n1. Begrüßung\, Feststellung der Beschlus
 sfähigkeit\n2. Neuwahl des Schriftführers/der Schriftführerin sowie Neuw
 ahl des stellvertretenden Schriftführers/der stellvertretenden Schriftfü
 hrerin\n3. Informationen zur Jugendschöffenwahl 2023\n4. Vorstellung des
  Sachgebiets \"Eingliederungshilfe\" des Fachdienstes Jugend\n5. Verschi
 edenes
UID:LI0QBQlqN7ZeWckn
END:VEVENT
END:VCALENDAR
