BEGIN:VCALENDAR
PRODID:-//IONAS//RIS//DE
VERSION:2.0
CALSCALE:GREGORIAN
BEGIN:VEVENT
DTSTAMP:20260420T212412Z
DTSTART:20231106T140500
DTEND:20231106T160800
SUMMARY:Kreistag (18. Sitzung)
LOCATION:Kreishaus in Korbach\, Sitzungssaal I (1. OG)\, Südring 2\, 3449
 7 Korbach
DESCRIPTION:Tagesordnungspunkte\nI. öffentliche Sitzung\n1. Fragestunde n
 ach § 17 der Geschäftsordnung\n2. Aktuelle Stunde\n3. Einführung und Ver
 pflichtung eines ehrenamtlichen Kreisbeigeordneten\n4. Mobilfunkabdeckun
 g messen – Netz im Landkreis verbessern \nAntrag der FDP-Fraktion\n5. Fa
 chberatung für queere Menschen“\n•Gemeinsamer Antrag der Fraktionen von 
 BÜNDNIS 90/DIE GRÜNEN und FDP\n6. „Aktionsprogramm Kommune – Frauen in d
 ie Politik!“\n7. Grundschule Goddelsheim \nhier: Vertrag zwischen Stadt 
 und Landkreis\n8. Jahresabschluss 2022 der Waldeckischen Domanialverwalt
 ung\n9. Wirtschaftsplan der Waldeckischen Domanialverwaltung für das Wir
 tschaftsjahr 2024\n10. Genehmigung von überplanmäßigen Aufwendungen im T
 eilergebnishaushalt 071 Produkt 07.1.010 „Kreiskrankenhaus Frankenberg g
 GmbH“ im Haushaltsjahr 2023\n11. Unterrichtung über die Genehmigung von 
 überplanmäßigen Aufwendungen in den Teilergebnishaushalten 050 Grundvers
 orgung und Hilfen nach SGB XII\, 051 Grundsicherung für Arbeitsuchende n
 ach SGB II und 059 Sonstige soziale Hilfen und Leistungen im Haushaltsja
 hr 2023\n12. Verschiedenes
UID:LbZkINI2iLqPW8rq
END:VEVENT
END:VCALENDAR
