BEGIN:VCALENDAR
PRODID:-//IONAS//RIS//DE
VERSION:2.0
CALSCALE:GREGORIAN
BEGIN:VEVENT
DTSTAMP:20260421T010041Z
DTSTART:20200115T150000
DTEND:20200115T160000
SUMMARY:Jugendhilfeausschuss (13. Sitzung)
LOCATION:Kreishaus in Korbach\, großer Sitzungssaal\, Südring 2\, 34497 K
 orbach
DESCRIPTION:
UID:RWnV-zqctZ9kCFIy
END:VEVENT
END:VCALENDAR
