BEGIN:VCALENDAR
PRODID:-//IONAS//RIS//DE
VERSION:2.0
CALSCALE:GREGORIAN
BEGIN:VEVENT
DTSTAMP:20260420T212412Z
DTSTART:20250915T140000
DTEND:20250915T173000
SUMMARY:Kreistag (31. Sitzung)
LOCATION:Kreishaus in Korbach\, Sitzungssaal I (1. OG)\, Südring 2\, 3449
 7 Korbach
DESCRIPTION:Tagesordnungspunkte\nI. öffentliche Sitzung\n1. Fragestunde n
 ach § 17 der Geschäftsordnung\n2. Aktuelle Stunde\n3. Kreiskrankenhaus F
 rankenberg gGmbH\;\nRangrücktritt und Verlängerung einer gewährten Liqui
 ditätshilfe\n4. Einführung eines kreisweiten Wettbewerbs zur Senkung des
  Energieverbrauchs in Schulen des Kreises\nAntrag der Fraktion BÜNDNIS 9
 0/DIE GRÜNEN\n5. Einrichtung eines Kinder- und Jugendparlaments im Landk
 reis Waldeck-Frankenberg\n•Antrag der Fraktionen CDU und SPD\n6. Zentral
 e Veranstaltung zum bundesweiten Veteranentag\n•  Antrag der Fraktionen 
 CDU und SPD\n7. Kugelsburgschule\, Volkmarsen\n• Antrag der Fraktionen B
 ündnis 90/Die Grünen\, FDP und FW\n8. Wasserbewirtschaftung des Edersees
 \n• Resolutionsantrag der Fraktionen Bündnis 90/Die Grünen\, FDP und FW\
 n• Resolutionsantrag des Kreisausschusses\n9. Konzeptvorschlag zur weite
 ren Bewirtschaftung der Projektstellen der Kreisverwaltung\n10. Vorstell
 ung Klima- und Energiebericht\n11. Neufassung der Satzung über die Bildu
 ng von Schulbezirken für die Grundschulen des Landkreises Waldeck-Franke
 nberg\n12. 8. Änderung der Satzung des Landkreises Waldeck-Frankenberg ü
 ber die Erhebung von Gebühren für Amtshandlungen im Zusammenhang mit der
  Gewinnung von Frischfleisch (Frischfleisch-Kostensatzung) vom 15.12.201
 4 (s. Anlagen)\n13. Kreisstraße 19\, Abstufung der Kreisstraße in der Or
 tslage Waldeck-Selbach zur Stadtstraße und Ablösung\n14. Ankauf des Grun
 dstücks in der Gemarkung Bad Wildungen\, Flur 20\, Flurstück 83 zur Erri
 chtung eines Neubaus für die Mathias-Bauer-Schule\n15. Jahresberichte de
 r Patientenfürsprecherinnen und Patientenfürsprecher der Krankenhäuser i
 m Landkreis Waldeck-Frankenberg für das Jahr 2024\n16. Bericht über den 
 Haushaltsvollzug für das II. Quartal 2025 auf der Grundlage der Finanzbu
 chhaltung nach § 28 GemHVO mit Begründung warum aufgrund der Haushaltsau
 sführung keine Nachtragssatzung  mit Nachtragshaushaltsplan vorgelegt we
 rden kann\n17. Verschiedenes
UID:SPTNgVY0BqSZzEJ1
END:VEVENT
END:VCALENDAR
