BEGIN:VCALENDAR
PRODID:-//IONAS//RIS//DE
VERSION:2.0
CALSCALE:GREGORIAN
BEGIN:VEVENT
DTSTAMP:20260421T005227Z
DTSTART:20261201T150000
DTEND:20261201T163000
SUMMARY:Jugendhilfeausschuss (3. Sitzung)
LOCATION:Kreishaus in Korbach\, Sitzungssaal I (1. OG)\, Südring 2\, 3449
 7 Korbach
DESCRIPTION:
UID:T4L_3yE8Vk8nOqPL
END:VEVENT
END:VCALENDAR
