BEGIN:VCALENDAR
PRODID:-//IONAS//RIS//DE
VERSION:2.0
CALSCALE:GREGORIAN
BEGIN:VEVENT
DTSTAMP:20260421T011201Z
DTSTART:20260817T150000
DTEND:20260817T160000
SUMMARY:Ausschuss für Finanzen\, Wirtschaft\, Tourismus\, Mobilität und B
 auen (2. Sitzung)
LOCATION:Kreishaus in Korbach\, Sitzungssaal I (1. OG)\, Südring 2\, 3449
 7 Korbach
DESCRIPTION:
UID:f13DxEzPt4meOydo
END:VEVENT
END:VCALENDAR
