BEGIN:VCALENDAR
PRODID:-//IONAS//RIS//DE
VERSION:2.0
CALSCALE:GREGORIAN
BEGIN:VEVENT
DTSTAMP:20260421T011201Z
DTSTART:20250630T143000
DTEND:20250630T151000
SUMMARY:Ausschuss für Finanzen\, Wirtschaft\, Tourismus\, Mobilität und B
 auen (28. Sitzung)
LOCATION:Kreishaus in Korbach\, Sitzungssaal I (1. OG)\, Südring 2\, 3449
 7 Korbach
DESCRIPTION:Tagesordnungspunkte\nI. öffentliche Sitzung\n1. Beteiligungsb
 ericht 2023 des Landkreises Waldeck-Frankenberg\n2. Neufassung der Schul
 budgetrichtlinie ab 01.01.2026\n3. Lückenschluss des Radweges zwischen B
 uhlen und Giflitz bzw. Wega auf der alten Bahntrasse\n4. Neubau eines Ge
 h-/Radweges an der K22 zwischen Nieder-Werbe und Scheid: Rückgabe des Zu
 wendungsbescheides für eine Erweiterte Machbarkeitsstudie mit Wirtschaft
 lichkeitsbetrachtung für das Vorhaben\n5. Planungsstand der Schulbauproj
 ekte\n6. Verschiedenes
UID:nuN_kEphqxar44nl
END:VEVENT
END:VCALENDAR
