BEGIN:VCALENDAR
PRODID:-//IONAS//RIS//DE
VERSION:2.0
CALSCALE:GREGORIAN
BEGIN:VEVENT
DTSTAMP:20260421T010603Z
DTSTART:20250623T150400
DTEND:20250623T161700
SUMMARY:Ausschuss für Schule\, Bildung\, Sport\, Digitalisierung und Schu
 lbauten (15. Sitzung)
LOCATION:Kreishaus in Korbach\, Sitzungssaal I (1. OG)\, Südring 2\, 3449
 7 Korbach
DESCRIPTION:Tagesordnungspunkte\n1. Neufassung der Schulbudgetrichtlinie 
 ab 01.01.2026\n2. Grundschulbezirke Stadt Korbach: aktuelle Entwicklung\
 n3. Planungsstand der Schulbauprojekte\n4. Verschiedenes
UID:o-S0Ll47waIqPhYr
END:VEVENT
END:VCALENDAR
