BEGIN:VCALENDAR
PRODID:-//IONAS//RIS//DE
VERSION:2.0
CALSCALE:GREGORIAN
BEGIN:VEVENT
DTSTAMP:20260421T010932Z
DTSTART:20230706T150000
DTEND:20230706T153500
SUMMARY:Ausschuss für Finanzen\, Wirtschaft\, Tourismus\, Mobilität und B
 auen (15. Sitzung)
LOCATION:Kreishaus in Korbach\, Sitzungssaal I (1. OG)\, Südring 2\, 3449
 7 Korbach
DESCRIPTION:Tagesordnungspunkte\nI. öffentliche Sitzung\n1. Programm zur 
 Förderung des ländlichen Raums im Landkreis Waldeck-Frankenberg\nhier: V
 erlängerung des kreiseigenen Förderprogramms um weitere 5 Jahre zur Förd
 erung des ländlichen Raums im Landkreis Waldeck-Frankenberg\n2. Änderung
  der Bauaufsichtsgebührensatzung\n3. Jagdsteuererhebung im Landkreis Wal
 deck-Frankenberg\n4. Unterrichtung über die Genehmigung von überplanmäßi
 gen Aufwendungen im Teilergebnishaushalt 074 Maßnahmen der Gesundheitspf
 lege im Haushaltsjahr 2023\n5. Anzeigepflicht gemäß § 18 HKO i.V.m. § 26
  a HGO\n6. Verschiedenes
UID:r9HgCLUPp4f55-k8
END:VEVENT
END:VCALENDAR
