BEGIN:VCALENDAR
PRODID:-//IONAS//RIS//DE
VERSION:2.0
CALSCALE:GREGORIAN
BEGIN:VEVENT
DTSTAMP:20260420T212437Z
DTSTART:20241213T140000
DTEND:20241213T165000
SUMMARY:Kreistag (26. Sitzung)
LOCATION:Kreishaus in Korbach\, Sitzungssaal I (1. OG)\, Südring 2\, 3449
 7 Korbach
DESCRIPTION:Tagesordnungspunkte\nI. öffentliche Sitzung\n1. Fragestunde n
 ach § 17 der Geschäftsordnung\n2. Aktuelle Stunde\n3. Eckpunkte der gepl
 anten Krankenhausfusion\n4. KI in der Kreisverwaltung\n•Große Anfrage de
 r AfD-Fraktion\n5. Sechster Frauenförder- und Gleichstellungsplan des La
 ndkreises Waldeck-Frankenberg\n6. Fortschreibung des Bereichsplanes für 
 den Rettungsdienstbereich Waldeck-Frankenberg\n7. 7. Änderung der Satzun
 g des Landkreises Waldeck-Frankenberg über die Erhebung von Gebühren für
  Amtshandlungen im Zusammenhang mit der Gewinnung von Frischfleisch (Fri
 schfleisch-Kostensatzung) vom 15.12.2014 (s. Anlagen)\n8. Beteiligungsbe
 richt 2022 des Landkreises Waldeck-Frankenberg\n9. Verschiedenes
UID:xiQ6SIDOlUq4A0oO
END:VEVENT
END:VCALENDAR
